BEGIN:VCALENDAR
CALSCALE:GREGORIAN
X-WR-TIMEZONE;VALUE=TEXT:GMT
PRODID:PEAK Corporation - piCal -
X-WR-CALNAME;VALUE=TEXT:【通常練習】　　　稲永　MP
VERSION:2.0
METHOD:PUBLISH
BEGIN:VTIMEZONE
TZID:GMT
BEGIN:STANDARD
DTSTART:19390101T000000
TZOFFSETFROM:+0000
TZOFFSETTO:+0000
TZNAME:GMT
END:STANDARD
END:VTIMEZONE
BEGIN:VEVENT
DTSTART:20130216T040000Z
DTEND:20130216T073000Z
LOCATION:稲永　MP
TRANSP:OPAQUE
SEQUENCE:0
UID:pical060-f08fea98dcf776afc7e7b4b996100c38
DTSTAMP:20121228T105412Z
CATEGORIES:
DESCRIPTION:
SUMMARY:【通常練習】　　　稲永　MP
PRIORITY:0
CLASS:PUBLIC
END:VEVENT
END:VCALENDAR
